BEGIN:VCALENDAR
VERSION:2.0
PRODID:-//Sacred Heart Junior College - ECPv6.15.17.1//NONSGML v1.0//EN
CALSCALE:GREGORIAN
METHOD:PUBLISH
X-ORIGINAL-URL:https://shjc.edu.bz
X-WR-CALDESC:Events for Sacred Heart Junior College
REFRESH-INTERVAL;VALUE=DURATION:PT1H
X-Robots-Tag:noindex
X-PUBLISHED-TTL:PT1H
BEGIN:VTIMEZONE
TZID:America/Chicago
BEGIN:DAYLIGHT
TZOFFSETFROM:-0600
TZOFFSETTO:-0500
TZNAME:CDT
DTSTART:20220313T080000
END:DAYLIGHT
BEGIN:STANDARD
TZOFFSETFROM:-0500
TZOFFSETTO:-0600
TZNAME:CST
DTSTART:20221106T070000
END:STANDARD
BEGIN:DAYLIGHT
TZOFFSETFROM:-0600
TZOFFSETTO:-0500
TZNAME:CDT
DTSTART:20230312T080000
END:DAYLIGHT
BEGIN:STANDARD
TZOFFSETFROM:-0500
TZOFFSETTO:-0600
TZNAME:CST
DTSTART:20231105T070000
END:STANDARD
BEGIN:DAYLIGHT
TZOFFSETFROM:-0600
TZOFFSETTO:-0500
TZNAME:CDT
DTSTART:20240310T080000
END:DAYLIGHT
BEGIN:STANDARD
TZOFFSETFROM:-0500
TZOFFSETTO:-0600
TZNAME:CST
DTSTART:20241103T070000
END:STANDARD
BEGIN:DAYLIGHT
TZOFFSETFROM:-0600
TZOFFSETTO:-0500
TZNAME:CDT
DTSTART:20250309T080000
END:DAYLIGHT
BEGIN:STANDARD
TZOFFSETFROM:-0500
TZOFFSETTO:-0600
TZNAME:CST
DTSTART:20251102T070000
END:STANDARD
BEGIN:DAYLIGHT
TZOFFSETFROM:-0600
TZOFFSETTO:-0500
TZNAME:CDT
DTSTART:20260308T080000
END:DAYLIGHT
BEGIN:STANDARD
TZOFFSETFROM:-0500
TZOFFSETTO:-0600
TZNAME:CST
DTSTART:20261101T070000
END:STANDARD
END:VTIMEZONE
BEGIN:VEVENT
DTSTART;TZID=America/Chicago:20250811T080000
DTEND;TZID=America/Chicago:20250811T170000
DTSTAMP:20260419T133656
CREATED:20240712T194151Z
LAST-MODIFIED:20250619T191612Z
UID:13468-1754899200-1754931600@shjc.edu.bz
SUMMARY:Fall Semester 1\, 2025-2026 Begins
DESCRIPTION:
URL:https://shjc.edu.bz/event/fall-semester-1-2024-2025-begins/
CATEGORIES:SHJC Calendar
END:VEVENT
BEGIN:VEVENT
DTSTART;TZID=America/Chicago:20250120T080000
DTEND;TZID=America/Chicago:20250120T170000
DTSTAMP:20260419T133656
CREATED:20250107T164229Z
LAST-MODIFIED:20250107T164232Z
UID:13587-1737360000-1737392400@shjc.edu.bz
SUMMARY:Spring Semester II\, 2024-2025 Begins
DESCRIPTION:
URL:https://shjc.edu.bz/event/spring-semester-ii-2024-2025-begins/
CATEGORIES:SHJC Calendar
END:VEVENT
BEGIN:VEVENT
DTSTART;TZID=America/Chicago:20240722T080000
DTEND;TZID=America/Chicago:20240809T170000
DTSTAMP:20260419T133656
CREATED:20240712T194254Z
LAST-MODIFIED:20240712T194257Z
UID:13470-1721635200-1723222800@shjc.edu.bz
SUMMARY:Online Registration Opens
DESCRIPTION:
URL:https://shjc.edu.bz/event/online-registration-opens-2/
CATEGORIES:SHJC Calendar
END:VEVENT
BEGIN:VEVENT
DTSTART;TZID=America/Chicago:20240612T090000
DTEND;TZID=America/Chicago:20240612T160000
DTSTAMP:20260419T133656
CREATED:20240530T153912Z
LAST-MODIFIED:20240530T153914Z
UID:13456-1718182800-1718208000@shjc.edu.bz
SUMMARY:Summer Registration - New Students
DESCRIPTION:
URL:https://shjc.edu.bz/event/summer-registration-new-students/
END:VEVENT
BEGIN:VEVENT
DTSTART;TZID=America/Chicago:20240529T080000
DTEND;TZID=America/Chicago:20240529T170000
DTSTAMP:20260419T133656
CREATED:20240523T234521Z
LAST-MODIFIED:20240523T234524Z
UID:13430-1716969600-1717002000@shjc.edu.bz
SUMMARY:Distribution of Report Cards
DESCRIPTION:
URL:https://shjc.edu.bz/event/distribution-of-report-cards/
END:VEVENT
BEGIN:VEVENT
DTSTART;TZID=America/Chicago:20240408T080000
DTEND;TZID=America/Chicago:20240408T170000
DTSTAMP:20260419T133656
CREATED:20240325T201214Z
LAST-MODIFIED:20240325T201216Z
UID:13299-1712563200-1712595600@shjc.edu.bz
SUMMARY:Return to school
DESCRIPTION:
URL:https://shjc.edu.bz/event/return-to-school/
CATEGORIES:SHJC Calendar
END:VEVENT
BEGIN:VEVENT
DTSTART;TZID=America/Chicago:20240325T080000
DTEND;TZID=America/Chicago:20240405T170000
DTSTAMP:20260419T133656
CREATED:20240325T201142Z
LAST-MODIFIED:20240325T201145Z
UID:13297-1711353600-1712336400@shjc.edu.bz
SUMMARY:Easter Break for students
DESCRIPTION:
URL:https://shjc.edu.bz/event/easter-break-for-students/
CATEGORIES:SHJC Calendar
END:VEVENT
BEGIN:VEVENT
DTSTART;TZID=America/Chicago:20240313T080000
DTEND;TZID=America/Chicago:20240313T170000
DTSTAMP:20260419T133656
CREATED:20240131T211703Z
LAST-MODIFIED:20240131T211705Z
UID:12162-1710316800-1710349200@shjc.edu.bz
SUMMARY:Mid-Semester Reports
DESCRIPTION:
URL:https://shjc.edu.bz/event/mid-semester-reports/
CATEGORIES:SHJC Calendar
END:VEVENT
BEGIN:VEVENT
DTSTART;TZID=America/Chicago:20240119T080000
DTEND;TZID=America/Chicago:20240119T120000
DTSTAMP:20260419T133656
CREATED:20240117T195405Z
LAST-MODIFIED:20240117T195407Z
UID:12148-1705651200-1705665600@shjc.edu.bz
SUMMARY:Class Add/Drop period
DESCRIPTION:
URL:https://shjc.edu.bz/event/class-add-drop-period/
CATEGORIES:SHJC Calendar
END:VEVENT
BEGIN:VEVENT
DTSTART;TZID=America/Chicago:20240116T080000
DTEND;TZID=America/Chicago:20240116T170000
DTSTAMP:20260419T133656
CREATED:20231130T195919Z
LAST-MODIFIED:20231130T195922Z
UID:12041-1705392000-1705424400@shjc.edu.bz
SUMMARY:Spring Semester 2 Starts
DESCRIPTION:
URL:https://shjc.edu.bz/event/spring-semester-2-starts/
CATEGORIES:SHJC Calendar
END:VEVENT
BEGIN:VEVENT
DTSTART;TZID=America/Chicago:20231214T080000
DTEND;TZID=America/Chicago:20231229T170000
DTSTAMP:20260419T133656
CREATED:20231123T215714Z
LAST-MODIFIED:20231123T215716Z
UID:12039-1702540800-1703869200@shjc.edu.bz
SUMMARY:Online Registration Opens
DESCRIPTION:
URL:https://shjc.edu.bz/event/online-registration-opens/
CATEGORIES:SHJC Calendar
END:VEVENT
BEGIN:VEVENT
DTSTART;TZID=America/Chicago:20231213T080000
DTEND;TZID=America/Chicago:20231213T170000
DTSTAMP:20260419T133656
CREATED:20231123T215218Z
LAST-MODIFIED:20231123T215220Z
UID:12037-1702454400-1702486800@shjc.edu.bz
SUMMARY:Distribution of Reports
DESCRIPTION:
URL:https://shjc.edu.bz/event/distribution-of-reports/
CATEGORIES:SHJC Calendar
END:VEVENT
BEGIN:VEVENT
DTSTART;TZID=America/Chicago:20231127T080000
DTEND;TZID=America/Chicago:20231130T170000
DTSTAMP:20260419T133656
CREATED:20231011T213042Z
LAST-MODIFIED:20231011T213044Z
UID:11827-1701072000-1701363600@shjc.edu.bz
SUMMARY:Exam Week
DESCRIPTION:
URL:https://shjc.edu.bz/event/exam-week/
CATEGORIES:SHJC Calendar
END:VEVENT
BEGIN:VEVENT
DTSTART;TZID=America/Chicago:20231030T080000
DTEND;TZID=America/Chicago:20231030T170000
DTSTAMP:20260419T133656
CREATED:20231011T212933Z
LAST-MODIFIED:20231011T212935Z
UID:11825-1698652800-1698685200@shjc.edu.bz
SUMMARY:WP/WF ends
DESCRIPTION:
URL:https://shjc.edu.bz/event/wp-wf-ends-2/
END:VEVENT
BEGIN:VEVENT
DTSTART;TZID=America/Chicago:20231027T080000
DTEND;TZID=America/Chicago:20231027T170000
DTSTAMP:20260419T133656
CREATED:20231011T212826Z
LAST-MODIFIED:20231012T202454Z
UID:11823-1698393600-1698426000@shjc.edu.bz
SUMMARY:Deadline for January Admissions
DESCRIPTION:
URL:https://shjc.edu.bz/event/deadline-for-january-admissions/
CATEGORIES:SHJC Calendar
END:VEVENT
BEGIN:VEVENT
DTSTART;TZID=America/Chicago:20230828T080000
DTEND;TZID=America/Chicago:20230901T170000
DTSTAMP:20260419T133656
CREATED:20230823T144451Z
LAST-MODIFIED:20230823T144454Z
UID:11746-1693209600-1693587600@shjc.edu.bz
SUMMARY:Withdrawal with "WE"
DESCRIPTION:
URL:https://shjc.edu.bz/event/withdrawal-with-we/
CATEGORIES:SHJC Calendar
END:VEVENT
BEGIN:VEVENT
DTSTART;TZID=America/Chicago:20230825T080000
DTEND;TZID=America/Chicago:20230825T170000
DTSTAMP:20260419T133656
CREATED:20230823T144135Z
LAST-MODIFIED:20230823T144137Z
UID:11744-1692950400-1692982800@shjc.edu.bz
SUMMARY:Deadline to add a course
DESCRIPTION:
URL:https://shjc.edu.bz/event/deadline-to-add-a-course/
CATEGORIES:SHJC Calendar
END:VEVENT
BEGIN:VEVENT
DTSTART;TZID=America/Chicago:20230814T080000
DTEND;TZID=America/Chicago:20230814T170000
DTSTAMP:20260419T133656
CREATED:20230804T201413Z
LAST-MODIFIED:20230804T201417Z
UID:11720-1692000000-1692032400@shjc.edu.bz
SUMMARY:Fall Semester 1\, 2023-2024
DESCRIPTION:
URL:https://shjc.edu.bz/event/fall-semester-1-2023-2024/
CATEGORIES:SHJC Calendar
END:VEVENT
BEGIN:VEVENT
DTSTART;TZID=America/Chicago:20230810T100000
DTEND;TZID=America/Chicago:20230810T150000
DTSTAMP:20260419T133656
CREATED:20230807T180209Z
LAST-MODIFIED:20230809T225916Z
UID:11723-1691661600-1691679600@shjc.edu.bz
SUMMARY:Orientation for new students
DESCRIPTION:
URL:https://shjc.edu.bz/event/orientation-for-new-students-2/
CATEGORIES:SHJC Calendar
END:VEVENT
BEGIN:VEVENT
DTSTART;TZID=America/Chicago:20230808T130000
DTEND;TZID=America/Chicago:20230810T170000
DTSTAMP:20260419T133656
CREATED:20230808T015042Z
LAST-MODIFIED:20230808T021842Z
UID:11725-1691499600-1691686800@shjc.edu.bz
SUMMARY:ID picture taking
DESCRIPTION:
URL:https://shjc.edu.bz/event/id-picture-taking/
LOCATION:At the JC Conference Room
END:VEVENT
BEGIN:VEVENT
DTSTART;TZID=America/Chicago:20230727T170000
DTEND;TZID=America/Chicago:20230811T170000
DTSTAMP:20260419T133656
CREATED:20230629T143951Z
LAST-MODIFIED:20230727T162747Z
UID:11584-1690477200-1691773200@shjc.edu.bz
SUMMARY:Registration for Fall Semester 1
DESCRIPTION:
URL:https://shjc.edu.bz/event/registration-for-fall-semester/
CATEGORIES:SHJC Calendar
END:VEVENT
BEGIN:VEVENT
DTSTART;TZID=America/Chicago:20230727T080000
DTEND;TZID=America/Chicago:20230727T170000
DTSTAMP:20260419T133656
CREATED:20230629T144729Z
LAST-MODIFIED:20230629T144732Z
UID:11587-1690444800-1690477200@shjc.edu.bz
SUMMARY:Placement Exams for New Students
DESCRIPTION:
URL:https://shjc.edu.bz/event/placement-exams-for-new-students/
LOCATION:Computer Lab 4
END:VEVENT
BEGIN:VEVENT
DTSTART;TZID=America/Chicago:20230721T080000
DTEND;TZID=America/Chicago:20230724T170000
DTSTAMP:20260419T133656
CREATED:20230720T152724Z
LAST-MODIFIED:20230720T152727Z
UID:11681-1689926400-1690218000@shjc.edu.bz
SUMMARY:Office Closure
DESCRIPTION:
URL:https://shjc.edu.bz/event/office-closure/
END:VEVENT
BEGIN:VEVENT
DTSTART;TZID=America/Chicago:20230710T080000
DTEND;TZID=America/Chicago:20230728T170000
DTSTAMP:20260419T133656
CREATED:20230530T170508Z
LAST-MODIFIED:20230530T170511Z
UID:11444-1688976000-1690563600@shjc.edu.bz
SUMMARY:Summer 2
DESCRIPTION:
URL:https://shjc.edu.bz/event/summer-2/
CATEGORIES:SHJC Calendar
END:VEVENT
BEGIN:VEVENT
DTSTART;TZID=America/Chicago:20230614T080000
DTEND;TZID=America/Chicago:20230614T170000
DTSTAMP:20260419T133656
CREATED:20230605T165726Z
LAST-MODIFIED:20230605T165729Z
UID:11446-1686729600-1686762000@shjc.edu.bz
SUMMARY:Graduation Announcement
DESCRIPTION:
URL:https://shjc.edu.bz/event/graduation-announcement/
CATEGORIES:SHJC Calendar
END:VEVENT
BEGIN:VEVENT
DTSTART;TZID=America/Chicago:20230612T080000
DTEND;TZID=America/Chicago:20230721T170000
DTSTAMP:20260419T133656
CREATED:20230530T170252Z
LAST-MODIFIED:20230530T170255Z
UID:11442-1686556800-1689958800@shjc.edu.bz
SUMMARY:Summer 1-B
DESCRIPTION:
URL:https://shjc.edu.bz/event/summer-1-b/
CATEGORIES:SHJC Calendar
END:VEVENT
BEGIN:VEVENT
DTSTART;TZID=America/Chicago:20230612T080000
DTEND;TZID=America/Chicago:20230630T170000
DTSTAMP:20260419T133656
CREATED:20230530T170111Z
LAST-MODIFIED:20230530T170114Z
UID:11440-1686556800-1688144400@shjc.edu.bz
SUMMARY:Summer 1-A
DESCRIPTION:
URL:https://shjc.edu.bz/event/summer-1-a/
CATEGORIES:SHJC Calendar
END:VEVENT
BEGIN:VEVENT
DTSTART;TZID=America/Chicago:20230515T080000
DTEND;TZID=America/Chicago:20230605T170000
DTSTAMP:20260419T133656
CREATED:20230511T191215Z
LAST-MODIFIED:20230511T191218Z
UID:11332-1684137600-1685984400@shjc.edu.bz
SUMMARY:Summer Registration
DESCRIPTION:
URL:https://shjc.edu.bz/event/summer-registration-2/
END:VEVENT
BEGIN:VEVENT
DTSTART;TZID=America/Chicago:20230428T080000
DTEND;TZID=America/Chicago:20230428T170000
DTSTAMP:20260419T133656
CREATED:20230419T173525Z
LAST-MODIFIED:20230419T173529Z
UID:11259-1682668800-1682701200@shjc.edu.bz
SUMMARY:DEADLINE for JC Applications
DESCRIPTION:
URL:https://shjc.edu.bz/event/deadline-for-jc-applications/
END:VEVENT
BEGIN:VEVENT
DTSTART;TZID=America/Chicago:20230421T080000
DTEND;TZID=America/Chicago:20230421T170000
DTSTAMP:20260419T133656
CREATED:20230419T173326Z
LAST-MODIFIED:20230419T173417Z
UID:11257-1682064000-1682096400@shjc.edu.bz
SUMMARY:DEADLINE to Withdraw with NO REFUND
DESCRIPTION:Students can :\n\n    Withdraw from a class. However\,all tuition will be charged.  The class will not  be removed from your transcript. It will show “WP/WF” to show withdrawal with Pass/Fail.\n\n    Withdraw from the semester. All Fees and Tuition for each class will be charged to your account. The class will not  be removed from your transcript. It will show “WP/WF” to show withdrawal with Pass/Fail.\n\n    Students will no longer be able to withdraw after  FRIDAY APRIL 21\, 2023 .\n\n     Kindle see Registration Penalties on your invoice.
URL:https://shjc.edu.bz/event/deadline-to-withdraw-with-no-refund/
END:VEVENT
END:VCALENDAR